BEGIN:VCALENDAR
VERSION:2.0
PRODID:-//Örebrocyklisterna - ECPv6.15.20//NONSGML v1.0//EN
CALSCALE:GREGORIAN
METHOD:PUBLISH
X-ORIGINAL-URL:https://orebrocyklisterna.se
X-WR-CALDESC:Händelser för Örebrocyklisterna
REFRESH-INTERVAL;VALUE=DURATION:PT1H
X-Robots-Tag:noindex
X-PUBLISHED-TTL:PT1H
BEGIN:VTIMEZONE
TZID:Europe/Paris
BEGIN:DAYLIGHT
TZOFFSETFROM:+0100
TZOFFSETTO:+0200
TZNAME:CEST
DTSTART:20240331T010000
END:DAYLIGHT
BEGIN:STANDARD
TZOFFSETFROM:+0200
TZOFFSETTO:+0100
TZNAME:CET
DTSTART:20241027T010000
END:STANDARD
BEGIN:DAYLIGHT
TZOFFSETFROM:+0100
TZOFFSETTO:+0200
TZNAME:CEST
DTSTART:20250330T010000
END:DAYLIGHT
BEGIN:STANDARD
TZOFFSETFROM:+0200
TZOFFSETTO:+0100
TZNAME:CET
DTSTART:20251026T010000
END:STANDARD
BEGIN:DAYLIGHT
TZOFFSETFROM:+0100
TZOFFSETTO:+0200
TZNAME:CEST
DTSTART:20260329T010000
END:DAYLIGHT
BEGIN:STANDARD
TZOFFSETFROM:+0200
TZOFFSETTO:+0100
TZNAME:CET
DTSTART:20261025T010000
END:STANDARD
END:VTIMEZONE
BEGIN:VEVENT
DTSTART;TZID=Europe/Paris:20250804T000000
DTEND;TZID=Europe/Paris:20250804T000000
DTSTAMP:20260425T202839
CREATED:20250804T093618Z
LAST-MODIFIED:20250804T093618Z
UID:670-1754265600-1754265600@orebrocyklisterna.se
SUMMARY:Gravel
DESCRIPTION:Se facebook för runda och samlingspunkt
URL:https://orebrocyklisterna.se/event/gravel-2/
END:VEVENT
BEGIN:VEVENT
DTSTART;TZID=Europe/Paris:20250811T000000
DTEND;TZID=Europe/Paris:20250811T000000
DTSTAMP:20260425T202839
CREATED:20250804T093432Z
LAST-MODIFIED:20250804T093717Z
UID:668-1754870400-1754870400@orebrocyklisterna.se
SUMMARY:Gravel
DESCRIPTION:Se facebook för runda och samlingspunkt
URL:https://orebrocyklisterna.se/event/gravel/
END:VEVENT
BEGIN:VEVENT
DTSTART;TZID=Europe/Paris:20250818T000000
DTEND;TZID=Europe/Paris:20250818T000000
DTSTAMP:20260425T202839
CREATED:20250804T093642Z
LAST-MODIFIED:20250804T093642Z
UID:672-1755475200-1755475200@orebrocyklisterna.se
SUMMARY:Gravel
DESCRIPTION:
URL:https://orebrocyklisterna.se/event/gravel-3/
END:VEVENT
BEGIN:VEVENT
DTSTART;TZID=Europe/Paris:20250825T000000
DTEND;TZID=Europe/Paris:20250825T000000
DTSTAMP:20260425T202839
CREATED:20250804T093801Z
LAST-MODIFIED:20250804T093801Z
UID:674-1756080000-1756080000@orebrocyklisterna.se
SUMMARY:Gravel
DESCRIPTION:Se facebook för runda och samlingspunkt
URL:https://orebrocyklisterna.se/event/gravel-4/
END:VEVENT
END:VCALENDAR